BEGIN:VCALENDAR
VERSION:2.0
PRODID:-//Bibliothèque Yzeron - ECPv5.9.1//NONSGML v1.0//EN
CALSCALE:GREGORIAN
METHOD:PUBLISH
X-WR-CALNAME:Bibliothèque Yzeron
X-ORIGINAL-URL:https://bibliotheque-yzeron.fr
X-WR-CALDESC:évènements pour Bibliothèque Yzeron
BEGIN:VTIMEZONE
TZID:Europe/Paris
BEGIN:DAYLIGHT
TZOFFSETFROM:+0100
TZOFFSETTO:+0200
TZNAME:CEST
DTSTART:20230326T010000
END:DAYLIGHT
BEGIN:STANDARD
TZOFFSETFROM:+0200
TZOFFSETTO:+0100
TZNAME:CET
DTSTART:20231029T010000
END:STANDARD
END:VTIMEZONE
BEGIN:VEVENT
DTSTART;TZID=Europe/Paris:20230414T080000
DTEND;TZID=Europe/Paris:20230414T170000
DTSTAMP:20260423T164503
CREATED:20230414T124425Z
LAST-MODIFIED:20240929T134757Z
UID:2699-1681459200-1681491600@bibliotheque-yzeron.fr
SUMMARY:Pour vos retours...
DESCRIPTION:Découvrez à l’entrée de la Bibliothèque\, une boîte pour vos retours ! Fabriquée avec des matériaux de récupération\, vous pouvez désormais déposer vos livres\, DVD\, CD à l’intérieur.
URL:https://bibliotheque-yzeron.fr/event/nouveaute/
ATTACH;FMTTYPE=image/jpeg:https://bibliotheque-yzeron.fr/wp-content/uploads/2023/04/56262298-79C8-47DD-9C6A-53B795A3D47A.jpeg
END:VEVENT
END:VCALENDAR