BEGIN:VCALENDAR
VERSION:2.0
PRODID:-//Bibliothèque Yzeron - ECPv5.9.1//NONSGML v1.0//EN
CALSCALE:GREGORIAN
METHOD:PUBLISH
X-WR-CALNAME:Bibliothèque Yzeron
X-ORIGINAL-URL:http://bibliotheque-yzeron.fr
X-WR-CALDESC:évènements pour Bibliothèque Yzeron
BEGIN:VTIMEZONE
TZID:Europe/Paris
BEGIN:DAYLIGHT
TZOFFSETFROM:+0100
TZOFFSETTO:+0200
TZNAME:CEST
DTSTART:20260329T010000
END:DAYLIGHT
BEGIN:STANDARD
TZOFFSETFROM:+0200
TZOFFSETTO:+0100
TZNAME:CET
DTSTART:20261025T010000
END:STANDARD
END:VTIMEZONE
BEGIN:VEVENT
DTSTART;TZID=Europe/Paris:20260417T190000
DTEND;TZID=Europe/Paris:20260417T200000
DTSTAMP:20260421T032611
CREATED:20260325T142520Z
LAST-MODIFIED:20260325T142851Z
UID:3850-1776452400-1776456000@bibliotheque-yzeron.fr
SUMMARY:Familiarités
DESCRIPTION:Vendredi 17 avril\, à 19h découvrez Familiarités\, un conte théâtralisé drôle et tendre sur les photos de famille ! \nDe la compagnie Les Yeux Bavards et joué par le comédien Pascal Carré. \nSpectacle gratuit à la Bibliothèque\, à partir de 8 ans. \nRéservation obligatoire.
URL:http://bibliotheque-yzeron.fr/event/familiarites/
ATTACH;FMTTYPE=image/jpeg:http://bibliotheque-yzeron.fr/wp-content/uploads/2026/03/familiarites_20260417_yzeron.jpg
END:VEVENT
END:VCALENDAR